BEGIN:VCALENDAR
VERSION:2.0
PRODID:icalendar-ruby
CALSCALE:GREGORIAN
METHOD:PUBLISH
BEGIN:VTIMEZONE
TZID:Europe/Oslo
BEGIN:DAYLIGHT
DTSTART:20270328T030000
TZOFFSETFROM:+0100
TZOFFSETTO:+0200
RRULE:FREQ=YEARLY;BYDAY=-1SU;BYMONTH=3
TZNAME:CEST
END:DAYLIGHT
BEGIN:STANDARD
DTSTART:20261025T020000
TZOFFSETFROM:+0200
TZOFFSETTO:+0100
RRULE:FREQ=YEARLY;BYDAY=-1SU;BYMONTH=10
TZNAME:CET
END:STANDARD
END:VTIMEZONE
BEGIN:VEVENT
DTSTAMP:20260420T215228Z
UID:1111853
DTSTART;TZID=Europe/Oslo:20270221T090000
DTEND;TZID=Europe/Oslo:20270221T170000
LOCATION:Lillehammer Olympic Sliding Centre
SEQUENCE:1776704966
SUMMARY:Day #4 Sliding Festival - VM Bob & Skeleton 2027
END:VEVENT
END:VCALENDAR
